BEGIN:VCALENDAR
VERSION:2.0
PRODID:-//ChamberMaster//Event Calendar 2.0//EN
METHOD:PUBLISH
X-PUBLISHED-TTL:P3D
REFRESH-INTERVAL:P3D
CALSCALE:GREGORIAN
BEGIN:VEVENT
DTSTART:20180919T143000Z
DTEND:20180919T150000Z
X-MICROSOFT-CDO-ALLDAYEVENT:FALSE
SUMMARY:Read to Me\, Please
DESCRIPTION:Read To Me\, Please.  Weekly\, on Wednesday from September 5 to October 31. At 10:30am at Port Elgin Branch LIbrary. Join us for this fun preschool program where we will help build early literacy skills with your child by reading\, talking\, singing and playing together\, Adults must stay for the program.
X-ALT-DESC;FMTTYPE=text/html:Read To Me\, Please.&nbsp\; Weekly\, on Wednesday from September 5 to October 31. At 10:30am at Port Elgin Branch LIbrary. Join us for this fun preschool program where we will help build early literacy skills with your child by reading\, talking\, singing and playing together\, Adults must stay for the program.
LOCATION:Port Elgin Branch Library
UID:e.2689.17675
SEQUENCE:3
DTSTAMP:20260420T163756Z
URL:https://www.saugeenshoreschamber.ca/events/details/read-to-me-please-09-19-2018-17675
END:VEVENT

END:VCALENDAR
