BEGIN:VCALENDAR
VERSION:2.0
PRODID:-//ChamberMaster//Event Calendar 2.0//EN
METHOD:PUBLISH
X-PUBLISHED-TTL:P3D
REFRESH-INTERVAL:P3D
CALSCALE:GREGORIAN
BEGIN:VEVENT
DTSTART:20180818T210000Z
DTEND:20180818T223000Z
X-MICROSOFT-CDO-ALLDAYEVENT:FALSE
SUMMARY:Roast Beef Dinner Fundraiser for Hospital Foundation
DESCRIPTION:A delicious Roast Beef Dinner will take place on Saturday\, August 18. There will be two seatings at 5 PM and 6:30 PM. All profits will be given to the Saugeen Memorial Hospital Foundation Gran Fond event. Cost is $18 for adults and $9 for children under 12. This event is sponsored by St. Paul's Anglican Church\, and will take place at the church\, 248 High Street\, Southampton.
X-ALT-DESC;FMTTYPE=text/html:A delicious Roast Beef Dinner will take place on Saturday\, August 18. There will be two seatings at 5 PM and 6:30 PM. All profits will be given to the Saugeen Memorial Hospital Foundation Gran Fond event. Cost is $18 for adults and $9 for children under 12. This event is sponsored by St. Paul&#39\;s Anglican Church\, and will take place at the church\, 248 High Street\, Southampton.
LOCATION:St. Paul's Anglican Church\, 248 High Street\, Southampton
UID:e.2689.17546
SEQUENCE:3
DTSTAMP:20260420T145844Z
URL:https://www.saugeenshoreschamber.ca/events/details/roast-beef-dinner-fundraiser-for-hospital-foundation-17546
END:VEVENT

END:VCALENDAR
