BEGIN:VCALENDAR
VERSION:2.0
PRODID:-//ChamberMaster//Event Calendar 2.0//EN
METHOD:PUBLISH
X-PUBLISHED-TTL:P3D
REFRESH-INTERVAL:P3D
CALSCALE:GREGORIAN
BEGIN:VEVENT
DTSTART:20180915T140000Z
DTEND:20181124T220000Z
X-MICROSOFT-CDO-ALLDAYEVENT:FALSE
SUMMARY:Roly Fenwick: Pow Wow Emanations
DESCRIPTION:Roly Fenwick: Pow Wow Emanations is ongoing from September 9th to November 24th 2018. Pow Wow's represent a gathering of nations to celebrate\, reflect\, inspire and convey a sense of spirit unique to First Nations communities. For Roly Fenwick his life long conquest to convey the intangible found in nature becomes rejuvenated as depicted in the series of watercolors and oil paintings. This work recounts his experience of many times spent on the shores along Lake Huron & Georgian Bay specifically at Saugeen and Cape Croker.
X-ALT-DESC;FMTTYPE=text/html:Roly Fenwick: Pow Wow Emanations is ongoing from September 9th to November 24th 2018. Pow Wow&#39\;s represent a gathering of nations to celebrate\, reflect\, inspire and convey a sense of spirit unique to First Nations communities. For Roly Fenwick his life long conquest to convey the intangible found in nature becomes rejuvenated as depicted in the series of watercolors and oil paintings. This work recounts his experience of many times spent on the shores along Lake Huron &amp\; Georgian Bay specifically at Saugeen and Cape Croker.
LOCATION:Bruce County Museum & Cultural Centre 33 Victoria Street\, Southampton
UID:e.2689.13672
SEQUENCE:3
DTSTAMP:20260420T145644Z
URL:https://www.saugeenshoreschamber.ca/events/details/roly-fenwick-pow-wow-emanations-13672
END:VEVENT

END:VCALENDAR
