BEGIN:VCALENDAR
VERSION:2.0
PRODID:-//ChamberMaster//Event Calendar 2.0//EN
METHOD:PUBLISH
X-PUBLISHED-TTL:P3D
REFRESH-INTERVAL:P3D
CALSCALE:GREGORIAN
BEGIN:VEVENT
DTSTART:20181209T000000Z
DTEND:20181209T023000Z
X-MICROSOFT-CDO-ALLDAYEVENT:FALSE
SUMMARY:Sandcastle Theatre presents: "Narnia- the Panto"
DESCRIPTION:Sandcastle Theatre Presents: Narnia- The Panto. This family musical will delight all ages.
X-ALT-DESC;FMTTYPE=text/html:<strong>Sandcastle Theatre Presents: Narnia- The Panto.</strong> This family musical will delight all ages.
LOCATION:Please Contact Sandcastle Theatre
UID:e.2689.13360
SEQUENCE:3
DTSTAMP:20260421T134534Z
URL:https://www.saugeenshoreschamber.ca/events/details/sandcastle-theatre-presents-narnia-the-panto-13360
END:VEVENT

END:VCALENDAR
