BEGIN:VCALENDAR
VERSION:2.0
PRODID:-//ChamberMaster//Event Calendar 2.0//EN
METHOD:PUBLISH
X-PUBLISHED-TTL:P3D
REFRESH-INTERVAL:P3D
CALSCALE:GREGORIAN
BEGIN:VEVENT
DTSTART:20181117T150000Z
DTEND:20181117T190000Z
X-MICROSOFT-CDO-ALLDAYEVENT:FALSE
SUMMARY:Saugeen Memorial Hospital Auxiliary Christmas Market
DESCRIPTION:Saugeen Memorial Hospital Auxiliary Christmas Market. Event to be held November 17th\, 2018 at the Rotary Hall in the Plex of Port Elgin. Something for everyone\, from crafts \, baked goods\, antiquities\, used books\, 50/50 Draw and more. All proceeds raised will be in support of the Saugeen Memorial Hospital\, patient care.
X-ALT-DESC;FMTTYPE=text/html:Saugeen Memorial Hospital Auxiliary Christmas Market. Event to be held November 17th\, 2018 at the Rotary Hall in the Plex of Port Elgin. Something for everyone\, from crafts \, baked goods\, antiquities\, used books\, 50/50 Draw and more. All proceeds raised will be in support of the Saugeen Memorial Hospital\, patient care.
LOCATION:Rotary Hall in the Plex of port Elgin
UID:e.2689.12439
SEQUENCE:3
DTSTAMP:20260420T183306Z
URL:https://www.saugeenshoreschamber.ca/events/details/saugeen-memorial-hospital-auxiliary-christmas-market-12439
END:VEVENT

END:VCALENDAR
