BEGIN:VCALENDAR
VERSION:2.0
PRODID:-//ChamberMaster//Event Calendar 2.0//EN
METHOD:PUBLISH
X-PUBLISHED-TTL:P3D
REFRESH-INTERVAL:P3D
CALSCALE:GREGORIAN
BEGIN:VEVENT
DTSTART:20181004T170000Z
DTEND:20181004T230000Z
X-MICROSOFT-CDO-ALLDAYEVENT:FALSE
SUMMARY:Saugeen Shores Blood Donor Clinic
DESCRIPTION:Roll up your sleeve and use your power to give life by donating blood. Book your appointment online at www.blood.ca or by calling 1-888-2DONATE. Walk ins welcome as well.
X-ALT-DESC;FMTTYPE=text/html:Roll up your sleeve and use your power to give life by donating blood. Book your appointment online at www.blood.ca or by calling 1-888-2DONATE. Walk ins welcome as well.
LOCATION:Saugeen Shores Community Complex
UID:e.2689.17587
SEQUENCE:3
DTSTAMP:20260420T164200Z
URL:https://www.saugeenshoreschamber.ca/events/details/saugeen-shores-blood-donor-clinic-17587
END:VEVENT

END:VCALENDAR
