BEGIN:VCALENDAR
VERSION:2.0
PRODID:-//ChamberMaster//Event Calendar 2.0//EN
METHOD:PUBLISH
X-PUBLISHED-TTL:P3D
REFRESH-INTERVAL:P3D
CALSCALE:GREGORIAN
BEGIN:VEVENT
DTSTART:20180824T010000Z
DTEND:20180826T035500Z
X-MICROSOFT-CDO-ALLDAYEVENT:FALSE
SUMMARY:Saugeen Shores Comedy Festival
DESCRIPTION:Saugeen Shores Comedy Festival. A three day festival at venues in and around Saugeen Shores including Chester's in Port Elgin and more TBA. Saturday\, August 25th the festival wraps up with O Good Gala*\, headlined by CBC radio's Ali Hassan in support of the Saugeen Memorial Hospital Foundation *lineup subject to change*. Tickets and 3-day-passes available at www.saugeenshorescomedy.com $15-$45. All shows start at 9pm unless more shows are added due to demand.
X-ALT-DESC;FMTTYPE=text/html:Saugeen Shores Comedy Festival. A three day festival at venues in and around Saugeen Shores including Chester&#39\;s in Port Elgin and more TBA. Saturday\, August 25th the festival wraps up with O Good Gala*\, headlined by CBC radio&#39\;s Ali Hassan in support of the Saugeen Memorial Hospital Foundation *lineup subject to change*.&nbsp\;Tickets and 3-day-passes available at www.saugeenshorescomedy.com $15-$45.&nbsp\;All shows start at&nbsp\;9pm&nbsp\;unless more shows are added due to demand.
LOCATION:The show opens Thursday\, August 23rd at Chester's in Port Elgin other venues TBA
UID:e.2689.14728
SEQUENCE:3
DTSTAMP:20260420T131731Z
URL:https://www.saugeenshoreschamber.ca/events/details/saugeen-shores-comedy-festival-14728
END:VEVENT

END:VCALENDAR
