BEGIN:VCALENDAR
VERSION:2.0
PRODID:-//ChamberMaster//Event Calendar 2.0//EN
METHOD:PUBLISH
X-PUBLISHED-TTL:P3D
REFRESH-INTERVAL:P3D
CALSCALE:GREGORIAN
BEGIN:VEVENT
DTSTART:20180902T220000Z
DTEND:20180903T020000Z
X-MICROSOFT-CDO-ALLDAYEVENT:FALSE
SUMMARY:Saugeen Shores Corvette Club
DESCRIPTION:Come and watch the car show!
X-ALT-DESC;FMTTYPE=text/html:Come and watch the car show!&nbsp\;
LOCATION:110 Elgin Street\, Port Elgin
UID:e.2689.17538
SEQUENCE:3
DTSTAMP:20260420T150141Z
URL:https://www.saugeenshoreschamber.ca/events/details/saugeen-shores-corvette-club-17538
END:VEVENT

END:VCALENDAR
