BEGIN:VCALENDAR
VERSION:2.0
PRODID:-//ChamberMaster//Event Calendar 2.0//EN
METHOD:PUBLISH
X-PUBLISHED-TTL:P3D
REFRESH-INTERVAL:P3D
CALSCALE:GREGORIAN
BEGIN:VEVENT
DTSTART:20180920T211500Z
DTEND:20180920T221500Z
X-MICROSOFT-CDO-ALLDAYEVENT:FALSE
SUMMARY:Science Exploration
DESCRIPTION:Thursday\, September 20th Join us to learn some science facts with activities and stories. All ages
X-ALT-DESC;FMTTYPE=text/html:Thursday\, September 20th Join us to learn some science facts with activities and stories. All ages
LOCATION:Port Elgin Branch Library
UID:e.2689.17576
SEQUENCE:3
DTSTAMP:20260420T145425Z
URL:https://www.saugeenshoreschamber.ca/events/details/science-exploration-17576
END:VEVENT

END:VCALENDAR
