BEGIN:VCALENDAR
VERSION:2.0
PRODID:-//ChamberMaster//Event Calendar 2.0//EN
METHOD:PUBLISH
X-PUBLISHED-TTL:P3D
REFRESH-INTERVAL:P3D
CALSCALE:GREGORIAN
BEGIN:VEVENT
DTSTART:20210614T150000Z
DTEND:20210704T210000Z
X-MICROSOFT-CDO-ALLDAYEVENT:FALSE
SUMMARY:Shadows
DESCRIPTION:We are thrilled to announce the opening of our upcoming exhibition\, Shadows! Shadows features artwork from incredibly talented local artists Susan Seitz and Brent Henry. "Up Close & Personal | A Healing Journey Through Grief" by Susan Seitz will be held in the Henderson Gallery. "Come and See | Culture Oppressed" by Brent Henry will be displayed in the Firehall gallery. Check out this Facebook page for exciting insights from the artists! https://www.facebook.com/Shadows-Susan-Seitz-and-Brent-Henry-102205238761065 Shadows will be open from June 14 to July 4th at Southampton Arts. Follow us on social media for more regular updates on the exhibition! @southamptonarts
X-ALT-DESC;FMTTYPE=text/html:We are thrilled to announce the opening of our upcoming exhibition\, Shadows! Shadows features artwork from incredibly talented local artists Susan Seitz and Brent Henry. &ldquo\;Up Close &amp\; Personal | A Healing Journey Through Grief&rdquo\; by Susan Seitz will be held in the Henderson Gallery. &ldquo\;Come and See | Culture Oppressed&rdquo\; by Brent Henry will be displayed in the Firehall gallery. Check out this Facebook page for exciting insights from the artists! https://www.facebook.com/Shadows-Susan-Seitz-and-Brent-Henry-102205238761065 Shadows will be open from June 14 to July 4th at Southampton Arts. Follow us on social media for more regular updates on the exhibition! @southamptonarts
LOCATION:Southampton Arts 201 High Street Southampton
UID:e.2689.24128
SEQUENCE:3
DTSTAMP:20260419T132812Z
URL:https://www.saugeenshoreschamber.ca/events/details/shadows-24128
END:VEVENT

END:VCALENDAR
