BEGIN:VCALENDAR
VERSION:2.0
PRODID:-//ChamberMaster//Event Calendar 2.0//EN
METHOD:PUBLISH
X-PUBLISHED-TTL:P3D
REFRESH-INTERVAL:P3D
CALSCALE:GREGORIAN
BEGIN:VEVENT
DTSTART:20180804T130000Z
DTEND:20180804T200000Z
X-MICROSOFT-CDO-ALLDAYEVENT:FALSE
SUMMARY:Shoreline Artists Art on the Fence
DESCRIPTION:Shoreline Artists Art on the Fence. Art Show & Sale. Members of the Shoreline Artist association annual show and sale of fine art works. This is held outdoors on High St.\, Southampton at Chantry Breezes\, just a short walk from the beach. Items to suit every taste from woodworking\, illustration\, photography and painting. Rain date is August 5th\, 2018 9am-4pm
X-ALT-DESC;FMTTYPE=text/html:<strong>Shoreline Artists Art on the Fence. Art Show &amp\; Sale.&nbsp\;</strong>Members of the Shoreline Artist association annual show and sale of fine art works. This is held outdoors on High St.\, Southampton at Chantry Breezes\, just a short walk from the beach. Items to suit every taste from woodworking\, illustration\, photography and painting. Rain date is August 5th\, 2018 9am-4pm
LOCATION:Chantry Breezes 107 High St. Southampton
UID:e.2689.13362
SEQUENCE:3
DTSTAMP:20260420T131609Z
URL:https://www.saugeenshoreschamber.ca/events/details/shoreline-artists-art-on-the-fence-13362
END:VEVENT

END:VCALENDAR
