BEGIN:VCALENDAR
VERSION:2.0
PRODID:-//ChamberMaster//Event Calendar 2.0//EN
METHOD:PUBLISH
X-PUBLISHED-TTL:P3D
REFRESH-INTERVAL:P3D
CALSCALE:GREGORIAN
BEGIN:VEVENT
DTSTART:20180929T140000Z
DTEND:20180930T210000Z
X-MICROSOFT-CDO-ALLDAYEVENT:FALSE
SUMMARY:Shoreline Artists Signature Show & Sale
DESCRIPTION:Shoreline Artists Signature Show and Sale. Browse beautiful works of art by many of the Shoreline Artists. Illustrations\, woodworking\, photography\, precious and semiprecious gemstone jewelry\, paintings in many different mediums are some of the items for sale. Prints and cards of some of the beautiful originals will also be available.
X-ALT-DESC;FMTTYPE=text/html:<strong>Shoreline Artists Signature Show and Sale.</strong>&nbsp\;Browse beautiful works of art by many of the Shoreline Artists. Illustrations\, woodworking\, photography\, precious and semiprecious gemstone jewelry\, paintings in many different mediums are some of the items for sale. Prints and cards of some of the beautiful originals will also be available.
LOCATION:The Plex- 600 Tomlinson Drive\, Port Elgin.
UID:e.2689.13363
SEQUENCE:3
DTSTAMP:20260420T150224Z
URL:https://www.saugeenshoreschamber.ca/events/details/shoreline-artists-signature-show-sale-13363
END:VEVENT

END:VCALENDAR
