BEGIN:VCALENDAR
VERSION:2.0
PRODID:-//ChamberMaster//Event Calendar 2.0//EN
METHOD:PUBLISH
X-PUBLISHED-TTL:P3D
REFRESH-INTERVAL:P3D
CALSCALE:GREGORIAN
BEGIN:VEVENT
DTSTART:20260425T140000Z
DTEND:20260425T160000Z
X-MICROSOFT-CDO-ALLDAYEVENT:FALSE
SUMMARY:Shred N Go
DESCRIPTION:Community Shredding Event. Bring your confidential documents for safe\, secure shredding.
X-ALT-DESC;FMTTYPE=text/html:Community Shredding Event. Bring your confidential documents for safe\, secure shredding.
LOCATION:Rotary Hall\, 39 Grey St South\, Southampton
UID:e.2689.26256
SEQUENCE:3
DTSTAMP:20260421T201352Z
URL:https://www.saugeenshoreschamber.ca/events/details/shred-n-go-04-25-2026-26256
END:VEVENT

END:VCALENDAR
