BEGIN:VCALENDAR
VERSION:2.0
PRODID:-//ChamberMaster//Event Calendar 2.0//EN
METHOD:PUBLISH
X-PUBLISHED-TTL:P3D
REFRESH-INTERVAL:P3D
CALSCALE:GREGORIAN
BEGIN:VEVENT
DTSTART:20210705T140000Z
DTEND:20210718T210000Z
X-MICROSOFT-CDO-ALLDAYEVENT:FALSE
SUMMARY:Southampton Art Gallery\, Summer Members Show
DESCRIPTION:Southampton Arts Centre members show features art from over 50 artist members.
X-ALT-DESC;FMTTYPE=text/html:Southampton Arts Centre members show features art from over 50 artist members. &nbsp\;
LOCATION:
UID:e.2689.24129
SEQUENCE:3
DTSTAMP:20260419T181725Z
URL:https://www.saugeenshoreschamber.ca/events/details/southampton-art-gallery-summer-members-show-24129
END:VEVENT

END:VCALENDAR
