BEGIN:VCALENDAR
VERSION:2.0
PRODID:-//ChamberMaster//Event Calendar 2.0//EN
METHOD:PUBLISH
X-PUBLISHED-TTL:P3D
REFRESH-INTERVAL:P3D
CALSCALE:GREGORIAN
BEGIN:VEVENT
DTSTART:20181201T143000Z
DTEND:20181201T170000Z
X-MICROSOFT-CDO-ALLDAYEVENT:FALSE
SUMMARY:Southampton Curling Club Cookie Walk
DESCRIPTION:Southampton Curling Club Cookie Walk\, Upstairs at the Curling Club\, located beside the Southampton Colliseum. ** Bring your own containers and fill them by mixing from dozens of Christmas Cookies and Treats. 9:30 am - until sold out or noon. Come early for best selection .
X-ALT-DESC;FMTTYPE=text/html:Southampton Curling Club Cookie Walk\, Upstairs at the Curling Club\, located beside the Southampton Colliseum. ** Bring your own containers and fill them by mixing from dozens of Christmas Cookies and Treats. 9:30 am - until sold out or noon. Come early for best selection .
LOCATION:Southampton Curling Club
UID:e.2689.17781
SEQUENCE:3
DTSTAMP:20260421T115852Z
URL:https://www.saugeenshoreschamber.ca/events/details/southampton-curling-club-cookie-walk-17781
END:VEVENT

END:VCALENDAR
