BEGIN:VCALENDAR
VERSION:2.0
PRODID:-//ChamberMaster//Event Calendar 2.0//EN
METHOD:PUBLISH
X-PUBLISHED-TTL:P3D
REFRESH-INTERVAL:P3D
CALSCALE:GREGORIAN
BEGIN:VEVENT
DTSTART:20181201T000000Z
DTEND:20181201T013000Z
X-MICROSOFT-CDO-ALLDAYEVENT:FALSE
SUMMARY:Southampton Santa Claus Parade
DESCRIPTION:Southampton Santa Claus Parade\, starting at 7pm. Santa comes to Southampton for the second Christmas Parade in Saugeen Shores and will be traveling the parade route waving to all the children. The parade os sponsored by the Saugeen Shores Chamber of Commerce. Canned food will be collected for the local food bank. Parade will commence at 7pm and run along High Street (from Grey Street to Grosvenor Street). Parade theme will be Parade of Lights. Volunteers are needed to help with the marshaling. Call Saugeen Shores Chamber of Commerce at 519-832-2332 if you want to help out.\n\n\n\nClick here for a float registration form.
X-ALT-DESC;FMTTYPE=text/html:Southampton Santa Claus Parade\, starting at 7pm. Santa comes to Southampton for the second Christmas Parade in Saugeen Shores and will be traveling the parade route waving to all the children. The parade os sponsored by the Saugeen Shores Chamber of Commerce. Canned food will be collected for the local food bank. Parade will commence at 7pm and run along High Street (from Grey Street to Grosvenor Street). Parade theme will be Parade of Lights. Volunteers are needed to help with the marshaling. Call Saugeen Shores Chamber of Commerce at 519-832-2332 if you want to help out.<br />\n<br />\n<a href="https://chambermaster.blob.core.windows.net/userfiles/UserFiles/chambers/2689/File/GuidelinesRegistrationForm2018.pdf">Click here for a float registration form</a>.&nbsp\;
LOCATION:Down Town Southampton\, along High Street
UID:e.2689.12550
SEQUENCE:3
DTSTAMP:20260420T182804Z
URL:https://www.saugeenshoreschamber.ca/events/details/southampton-santa-claus-parade-12550
END:VEVENT

END:VCALENDAR
