BEGIN:VCALENDAR
VERSION:2.0
PRODID:-//ChamberMaster//Event Calendar 2.0//EN
METHOD:PUBLISH
X-PUBLISHED-TTL:P3D
REFRESH-INTERVAL:P3D
CALSCALE:GREGORIAN
BEGIN:VEVENT
DTSTART:20181122T150000Z
DTEND:20181123T020000Z
X-MICROSOFT-CDO-ALLDAYEVENT:FALSE
SUMMARY:Southampton Sparkles
DESCRIPTION:Gear up for the holidays by shopping local during the Southampton Sparkles event! Downtown Merchants will be open until 9pm for all your shopping needs.
X-ALT-DESC;FMTTYPE=text/html:<span style="font-family: &quot\;Helvetica Neue&quot\;\, Helvetica\, Arial\, sans-serif\; font-size: 12px\;">Gear up for the holidays by shopping local during the Southampton Sparkles event! Downtown Merchants will be open until 9pm for all your shopping needs.</span>
LOCATION:Southampton\, ON
UID:e.2689.17737
SEQUENCE:3
DTSTAMP:20260420T180757Z
URL:https://www.saugeenshoreschamber.ca/events/details/southampton-sparkles-17737
END:VEVENT

END:VCALENDAR
