BEGIN:VCALENDAR
VERSION:2.0
PRODID:-//ChamberMaster//Event Calendar 2.0//EN
METHOD:PUBLISH
X-PUBLISHED-TTL:P3D
REFRESH-INTERVAL:P3D
CALSCALE:GREGORIAN
BEGIN:VEVENT
DTSTART:20181122T233000Z
DTEND:20181123T003000Z
X-MICROSOFT-CDO-ALLDAYEVENT:FALSE
SUMMARY:Southampton Tree Lighting
DESCRIPTION:Come to Southampton for the Tree Lighting at 6:30pm at the Town Hall. You can stay for Southampton Sparkles. Downtown Merchants will be open until 9pm for all your shopping needs.
X-ALT-DESC;FMTTYPE=text/html:<span style="font-family: &quot\;Helvetica Neue&quot\;\, Helvetica\, Arial\, sans-serif\; font-size: 12px\;">Come to Southampton for the Tree Lighting at 6:30pm at the Town Hall. You can stay for Southampton Sparkles. Downtown Merchants will be open until 9pm for all your shopping needs.</span>
LOCATION:Southampton Town Hall
UID:e.2689.17738
SEQUENCE:3
DTSTAMP:20260420T180659Z
URL:https://www.saugeenshoreschamber.ca/events/details/southampton-tree-lighting-17738
END:VEVENT

END:VCALENDAR
