BEGIN:VCALENDAR
VERSION:2.0
PRODID:-//ChamberMaster//Event Calendar 2.0//EN
METHOD:PUBLISH
X-PUBLISHED-TTL:P3D
REFRESH-INTERVAL:P3D
CALSCALE:GREGORIAN
BEGIN:VEVENT
DTSTART:20180918T230000Z
DTEND:20180919T003000Z
X-MICROSOFT-CDO-ALLDAYEVENT:FALSE
SUMMARY:Southport Horticultural Society - September Meeting
DESCRIPTION:Southport Horticultural Society - September Meeting. Join us for a presentation by Owen Sound Master Gardener Rebecca Baker - "Fall into Spring" - to get your gardens put to bed for the winter. Doors open at 6:30 pm. Southport Pentecostal Church on Hwy 21 N. Memberships are $10.00. Guests attending presentations - $5.00.
X-ALT-DESC;FMTTYPE=text/html:Southport Horticultural Society - September Meeting. Join us for a presentation by Owen Sound Master Gardener Rebecca Baker - &quot\;Fall into Spring&quot\; - to get your gardens put to bed for the winter. Doors open at 6:30 pm.&nbsp\;Southport Pentecostal Church on Hwy 21 N.&nbsp\;Memberships are $10.00. Guests attending presentations - $5.00.
LOCATION:Southport Pentecostal Church on Hwy 21 N
UID:e.2689.12993
SEQUENCE:3
DTSTAMP:20260420T150230Z
URL:https://www.saugeenshoreschamber.ca/events/details/southport-horticultural-society-september-meeting-12993
END:VEVENT

END:VCALENDAR
