BEGIN:VCALENDAR
VERSION:2.0
PRODID:-//ChamberMaster//Event Calendar 2.0//EN
METHOD:PUBLISH
X-PUBLISHED-TTL:P3D
REFRESH-INTERVAL:P3D
CALSCALE:GREGORIAN
BEGIN:VEVENT
DTSTART:20181223T193000Z
DTEND:20181223T210000Z
X-MICROSOFT-CDO-ALLDAYEVENT:FALSE
SUMMARY:Sponsore Public Skate (Coliseum)
DESCRIPTION:Sponsored Public Skate (Coliseum). Skate for free today! Thank you to Martin's Home Hardware\, our generous community sponsor.
X-ALT-DESC;FMTTYPE=text/html:Sponsored Public Skate (Coliseum). Skate for free today! Thank you to Martin&#39\;s Home Hardware\, our generous community sponsor.
LOCATION:The Colisuem\, 26 Albert Street South\, Southampton
UID:e.2689.17804
SEQUENCE:3
DTSTAMP:20260421T115637Z
URL:https://www.saugeenshoreschamber.ca/events/details/sponsore-public-skate-coliseum-17804
END:VEVENT

END:VCALENDAR
