BEGIN:VCALENDAR
VERSION:2.0
PRODID:-//ChamberMaster//Event Calendar 2.0//EN
METHOD:PUBLISH
X-PUBLISHED-TTL:P3D
REFRESH-INTERVAL:P3D
CALSCALE:GREGORIAN
BEGIN:VEVENT
DTSTART:20181125T233000Z
DTEND:20181126T010000Z
X-MICROSOFT-CDO-ALLDAYEVENT:FALSE
SUMMARY:Sponsored Family Skate (Coliseum)
DESCRIPTION:Sponsored Public Skate (Coliseum). Skate for free! Public skate generously sponsored by Burns & McDonnell on behalf of the United Way of Bruce Grey.
X-ALT-DESC;FMTTYPE=text/html:Sponsored Public Skate (Coliseum). Skate for free! Public skate generously sponsored by Burns &amp\; McDonnell on behalf of the United Way of Bruce Grey.
LOCATION:The Coliseum\, 26 Albert Street South\, Southampton
UID:e.2689.17783
SEQUENCE:3
DTSTAMP:20260420T182819Z
URL:https://www.saugeenshoreschamber.ca/events/details/sponsored-family-skate-coliseum-17783
END:VEVENT

END:VCALENDAR
