BEGIN:VCALENDAR
VERSION:2.0
PRODID:-//ChamberMaster//Event Calendar 2.0//EN
METHOD:PUBLISH
X-PUBLISHED-TTL:P3D
REFRESH-INTERVAL:P3D
CALSCALE:GREGORIAN
BEGIN:VEVENT
DTSTART:20181013T170000Z
DTEND:20181013T183000Z
X-MICROSOFT-CDO-ALLDAYEVENT:FALSE
SUMMARY:Sponsored Fun Swim
DESCRIPTION:Sponsored Fun Swim. Swim for free! Fun Swim generously sponsored by Corner Chiropractic and Laser Clinic.
X-ALT-DESC;FMTTYPE=text/html:Sponsored Fun Swim. Swim for free! Fun Swim generously sponsored by Corner Chiropractic and Laser Clinic.
LOCATION:Centennial Pool\, 649 Mill Creek Road\, in Port Elgin
UID:e.2689.17642
SEQUENCE:3
DTSTAMP:20260420T163755Z
URL:https://www.saugeenshoreschamber.ca/events/details/sponsored-fun-swim-10-04-2018-17642
END:VEVENT

END:VCALENDAR
