BEGIN:VCALENDAR
VERSION:2.0
PRODID:-//ChamberMaster//Event Calendar 2.0//EN
METHOD:PUBLISH
X-PUBLISHED-TTL:P3D
REFRESH-INTERVAL:P3D
CALSCALE:GREGORIAN
BEGIN:VEVENT
DTSTART:20181103T170000Z
DTEND:20181103T183000Z
X-MICROSOFT-CDO-ALLDAYEVENT:FALSE
SUMMARY:Sponsored Fun Swim
DESCRIPTION:Sponsored Fun Swim. Swim for free! This fun swim is generously sponsored by Lakeside Process Controls.
X-ALT-DESC;FMTTYPE=text/html:Sponsored Fun Swim. Swim for free! This fun swim is generously sponsored by Lakeside Process Controls.
LOCATION:Centennial Pool\, 649 Mill Creek Road\, Port Elgin
UID:e.2689.17744
SEQUENCE:3
DTSTAMP:20260420T181815Z
URL:https://www.saugeenshoreschamber.ca/events/details/sponsored-fun-swim-11-03-2018-17744
END:VEVENT

END:VCALENDAR
