BEGIN:VCALENDAR
VERSION:2.0
PRODID:-//ChamberMaster//Event Calendar 2.0//EN
METHOD:PUBLISH
X-PUBLISHED-TTL:P3D
REFRESH-INTERVAL:P3D
CALSCALE:GREGORIAN
BEGIN:VEVENT
DTSTART:20181118T193000Z
DTEND:20181118T210000Z
X-MICROSOFT-CDO-ALLDAYEVENT:FALSE
SUMMARY:Sponsored Public Skate (Coliseum)
DESCRIPTION:Sponsored Public Skate (Coliseum). Skate for free! This public skate is generously sponsored by PLAY in Bruce Grey.
X-ALT-DESC;FMTTYPE=text/html:Sponsored Public Skate (Coliseum). Skate for free! This public skate is generously sponsored by PLAY in Bruce Grey.
LOCATION:The Coliseum\, 26 Albert Street South\, Southampton
UID:e.2689.17750
SEQUENCE:3
DTSTAMP:20260420T182900Z
URL:https://www.saugeenshoreschamber.ca/events/details/sponsored-public-skate-coliseum-11-18-2018-17750
END:VEVENT

END:VCALENDAR
