BEGIN:VCALENDAR
VERSION:2.0
PRODID:-//ChamberMaster//Event Calendar 2.0//EN
METHOD:PUBLISH
X-PUBLISHED-TTL:P3D
REFRESH-INTERVAL:P3D
CALSCALE:GREGORIAN
BEGIN:VEVENT
DTSTART:20181021T183000Z
DTEND:20181021T200000Z
X-MICROSOFT-CDO-ALLDAYEVENT:FALSE
SUMMARY:Sponsored Public Skate (Coliseum)
DESCRIPTION:Sponsored Public Skate (Coliseum). Skate for free! Public skate generously sponsored by Community of Christ.
X-ALT-DESC;FMTTYPE=text/html:Sponsored Public Skate (Coliseum). Skate for free! Public skate generously sponsored by Community of Christ.
LOCATION:The Coliseum\, 26 Albert Street South\, Southampton
UID:e.2689.17647
SEQUENCE:3
DTSTAMP:20260420T181115Z
URL:https://www.saugeenshoreschamber.ca/events/details/sponsored-public-skate-coliseum-17647
END:VEVENT

END:VCALENDAR
