BEGIN:VCALENDAR
VERSION:2.0
PRODID:-//ChamberMaster//Event Calendar 2.0//EN
METHOD:PUBLISH
X-PUBLISHED-TTL:P3D
REFRESH-INTERVAL:P3D
CALSCALE:GREGORIAN
BEGIN:VEVENT
DTSTART:20181020T143000Z
DTEND:20181020T160000Z
X-MICROSOFT-CDO-ALLDAYEVENT:FALSE
SUMMARY:Sponsored Public Skate (Plex)
DESCRIPTION:Sponsored Public Skate (Plex). Skate for free today! Public skate generously sponsored by Wark Milk Transport Ltd.
X-ALT-DESC;FMTTYPE=text/html:Sponsored Public Skate (Plex). Skate for free today! Public skate generously sponsored by Wark Milk Transport Ltd.
LOCATION:The Plex
UID:e.2689.17645
SEQUENCE:3
DTSTAMP:20260420T163800Z
URL:https://www.saugeenshoreschamber.ca/events/details/sponsored-public-skate-plex-10-20-2018-17645
END:VEVENT

END:VCALENDAR
