BEGIN:VCALENDAR
VERSION:2.0
PRODID:-//ChamberMaster//Event Calendar 2.0//EN
METHOD:PUBLISH
X-PUBLISHED-TTL:P3D
REFRESH-INTERVAL:P3D
CALSCALE:GREGORIAN
BEGIN:VEVENT
DTSTART:20181027T143000Z
DTEND:20181027T160000Z
X-MICROSOFT-CDO-ALLDAYEVENT:FALSE
SUMMARY:Sponsored Public Skate (Plex)
DESCRIPTION:Sponsored Public Skate (Plex). Skate for free! Public skate generously sponsored by Dr. David Billings.
X-ALT-DESC;FMTTYPE=text/html:Sponsored Public Skate (Plex). Skate for free! Public skate generously sponsored by Dr. David Billings.
LOCATION:The Plex\, 600 Tomlinson Drive\, Port Elgin
UID:e.2689.17648
SEQUENCE:3
DTSTAMP:20260420T163826Z
URL:https://www.saugeenshoreschamber.ca/events/details/sponsored-public-skate-plex-10-27-2018-17648
END:VEVENT

END:VCALENDAR
