BEGIN:VCALENDAR
VERSION:2.0
PRODID:-//ChamberMaster//Event Calendar 2.0//EN
METHOD:PUBLISH
X-PUBLISHED-TTL:P3D
REFRESH-INTERVAL:P3D
CALSCALE:GREGORIAN
BEGIN:VEVENT
DTSTART:20181110T153000Z
DTEND:20181110T170000Z
X-MICROSOFT-CDO-ALLDAYEVENT:FALSE
SUMMARY:Sponsored Public Skate (Plex)
DESCRIPTION:Sponsored Public Skate (Plex). Skate for free!Public skate generously sponsored by the Chantry Island Cham-bettes.
X-ALT-DESC;FMTTYPE=text/html:Sponsored Public Skate (Plex). Skate for free!Public skate generously sponsored by the Chantry Island Cham-bettes.
LOCATION:The Plex\, 600 Tomlinson Drive\, Port Elgin
UID:e.2689.17746
SEQUENCE:3
DTSTAMP:20260420T181850Z
URL:https://www.saugeenshoreschamber.ca/events/details/sponsored-public-skate-plex-11-10-2018-17746
END:VEVENT

END:VCALENDAR
