BEGIN:VCALENDAR
VERSION:2.0
PRODID:-//ChamberMaster//Event Calendar 2.0//EN
METHOD:PUBLISH
X-PUBLISHED-TTL:P3D
REFRESH-INTERVAL:P3D
CALSCALE:GREGORIAN
BEGIN:VEVENT
DTSTART:20181222T153000Z
DTEND:20181222T170000Z
X-MICROSOFT-CDO-ALLDAYEVENT:FALSE
SUMMARY:Sponsored Public Skate (Plex)
DESCRIPTION:Sponsored Public Skate (Plex). Skate for free today! Thank you to Corner Chiropractic and Laser Clinic\, our generous community sponsor.
X-ALT-DESC;FMTTYPE=text/html:Sponsored Public Skate (Plex). Skate for free today! Thank you to Corner Chiropractic and Laser Clinic\, our generous community sponsor.
LOCATION:The Plex\, 600 Tomlinson Drive\, Port Elgin
UID:e.2689.17803
SEQUENCE:3
DTSTAMP:20260421T115937Z
URL:https://www.saugeenshoreschamber.ca/events/details/sponsored-public-skate-plex-12-22-2018-17803
END:VEVENT

END:VCALENDAR
