BEGIN:VCALENDAR
VERSION:2.0
PRODID:-//ChamberMaster//Event Calendar 2.0//EN
METHOD:PUBLISH
X-PUBLISHED-TTL:P3D
REFRESH-INTERVAL:P3D
CALSCALE:GREGORIAN
BEGIN:VEVENT
DTSTART:20181229T153000Z
DTEND:20181229T170000Z
X-MICROSOFT-CDO-ALLDAYEVENT:FALSE
SUMMARY:Sponsored Public Skate (Plex)
DESCRIPTION:Sponsored Public Skate (Plex). Skate for free today! Thank you to St. Joseph's School Parent Council\, our generous community sponsor.
X-ALT-DESC;FMTTYPE=text/html:Sponsored Public Skate (Plex). Skate for free today! Thank you to St. Joseph&#39\;s School Parent Council\, our generous community sponsor.
LOCATION:The Plex\, 600 Tomlinson Drive\, Port Elgin
UID:e.2689.17810
SEQUENCE:3
DTSTAMP:20260421T115728Z
URL:https://www.saugeenshoreschamber.ca/events/details/sponsored-public-skate-plex-12-29-2018-17810
END:VEVENT

END:VCALENDAR
