BEGIN:VCALENDAR
VERSION:2.0
PRODID:-//ChamberMaster//Event Calendar 2.0//EN
METHOD:PUBLISH
X-PUBLISHED-TTL:P3D
REFRESH-INTERVAL:P3D
CALSCALE:GREGORIAN
BEGIN:VEVENT
DTSTART:20181013T143000Z
DTEND:20181013T160000Z
X-MICROSOFT-CDO-ALLDAYEVENT:FALSE
SUMMARY:Sponsored Public Skate (Plex)
DESCRIPTION:Sponsored Public Skate ( Plex) . Skate for free today! Public skate generously sponsored by Lakeside Controls
X-ALT-DESC;FMTTYPE=text/html:Sponsored Public Skate ( Plex) . Skate for free today! Public skate generously sponsored by Lakeside Controls
LOCATION:The Plex\, 600 Tomlinson Drive\, in Port Elgin
UID:e.2689.17633
SEQUENCE:3
DTSTAMP:20260420T181023Z
URL:https://www.saugeenshoreschamber.ca/events/details/sponsored-public-skate-plex-17633
END:VEVENT

END:VCALENDAR
