BEGIN:VCALENDAR
VERSION:2.0
PRODID:-//ChamberMaster//Event Calendar 2.0//EN
METHOD:PUBLISH
X-PUBLISHED-TTL:P3D
REFRESH-INTERVAL:P3D
CALSCALE:GREGORIAN
BEGIN:VEVENT
DTSTART:20181018T211500Z
DTEND:20181018T221500Z
X-MICROSOFT-CDO-ALLDAYEVENT:FALSE
SUMMARY:Spooky Stories
DESCRIPTION:Thursday\, October 18th. Join us for some spooky stories and activities. All ages.
X-ALT-DESC;FMTTYPE=text/html:Thursday\, October 18th. Join us for some spooky stories and activities. All ages.
LOCATION:Port Elgin Branch Library
UID:e.2689.17580
SEQUENCE:3
DTSTAMP:20260420T180736Z
URL:https://www.saugeenshoreschamber.ca/events/details/spooky-stories-17580
END:VEVENT

END:VCALENDAR
