BEGIN:VCALENDAR
VERSION:2.0
PRODID:-//ChamberMaster//Event Calendar 2.0//EN
METHOD:PUBLISH
X-PUBLISHED-TTL:P3D
REFRESH-INTERVAL:P3D
CALSCALE:GREGORIAN
BEGIN:VEVENT
DTSTART:20210412T140000Z
DTEND:20210416T203000Z
X-MICROSOFT-CDO-ALLDAYEVENT:FALSE
SUMMARY:Spring Break Family Fun Days
DESCRIPTION:Spring Break Family Fun Days April 12-16 10 AM-12 PM & 1 PM-4:30 PM We have you covered this Spring Break\, so there will be no excuse for boredom! Bring the family out to explore our exhibits and participate in different daily activities. The week will feature presentations\, pre-portioned crafts\, and activities\, along with daily movies on the big screen! Please note that space is limited in the theatre for presentations\, tickets will be handed out first come\, first served. Visit brucemuseum.ca for the full schedule. If required\, this program will be hosted virtually. Members Free General Admission applies Proudly presented by Judy Rich Barrister & Solicitor and Southampton Rotary
X-ALT-DESC;FMTTYPE=text/html:Spring Break Family Fun Days April 12-16 10 AM-12 PM &amp\; 1 PM-4:30 PM We have you covered this Spring Break\, so there will be no excuse for boredom! Bring the family out to explore our exhibits and participate in different daily activities. The week will feature presentations\, pre-portioned crafts\, and activities\, along with daily movies on the big screen! Please note that space is limited in the theatre for presentations\, tickets will be handed out first come\, first served. Visit brucemuseum.ca for the full schedule. If required\, this program will be hosted virtually. Members Free General Admission applies Proudly presented by Judy Rich Barrister &amp\; Solicitor and Southampton Rotary
LOCATION:Bruce County Museum & Cultural Centre 33 Victoria St.\, N\, Southampton\, ON N0H 2L0
UID:e.2689.24112
SEQUENCE:3
DTSTAMP:20260419T171640Z
URL:https://www.saugeenshoreschamber.ca/events/details/spring-break-family-fun-days-24112
END:VEVENT

END:VCALENDAR
