BEGIN:VCALENDAR
VERSION:2.0
PRODID:-//ChamberMaster//Event Calendar 2.0//EN
METHOD:PUBLISH
X-PUBLISHED-TTL:P3D
REFRESH-INTERVAL:P3D
CALSCALE:GREGORIAN
BEGIN:VEVENT
DTSTART:20210412T123000Z
DTEND:20210416T210000Z
X-MICROSOFT-CDO-ALLDAYEVENT:FALSE
SUMMARY:Spring Break KidZone Discovery Day Camp
DESCRIPTION:Spring Break KidZone Discovery Day Camp April 12-16 8:30 AM-5PM Children are invited to explore\, create\, and have fun at the Museum! It's a week of games\, arts and crafts\, experiments\, special guests\, time in the exhibits and fun outdoors. Register early to avoid disappointment! This program is designed for ages 5-12. Pre-registration and pre-payment is required. Proudly presented by Bruce Power
X-ALT-DESC;FMTTYPE=text/html:Spring Break KidZone Discovery Day Camp April 12-16 8:30 AM-5PM Children are invited to explore\, create\, and have fun at the Museum! It&#39\;s a week of games\, arts and crafts\, experiments\, special guests\, time in the exhibits and fun outdoors. Register early to avoid disappointment! This program is designed for ages 5-12. Pre-registration and pre-payment is required. Proudly presented by Bruce Power
LOCATION:Bruce County Museum & Cultural Centre 33 Victoria St.\, N\, Southampton\, ON N0H 2L0
UID:e.2689.24113
SEQUENCE:3
DTSTAMP:20260419T170811Z
URL:https://www.saugeenshoreschamber.ca/events/details/spring-break-kidzone-discovery-day-camp-24113
END:VEVENT

END:VCALENDAR
