BEGIN:VCALENDAR
VERSION:2.0
PRODID:-//ChamberMaster//Event Calendar 2.0//EN
METHOD:PUBLISH
X-PUBLISHED-TTL:P3D
REFRESH-INTERVAL:P3D
CALSCALE:GREGORIAN
BEGIN:VEVENT
DTSTART:20180924T200000Z
DTEND:20180924T203000Z
X-MICROSOFT-CDO-ALLDAYEVENT:FALSE
SUMMARY:STEM
DESCRIPTION:Weekly - Every Monday\, from September 3 to October 22. Drop in Mondays to explore and participate in Science\, Technology\, Engineering\, and Math activities. This may be self-directed or with instruction. All ages welcome.
X-ALT-DESC;FMTTYPE=text/html:Weekly - Every Monday\, from September 3 to October 22. Drop in Mondays to explore and participate in Science\, Technology\, Engineering\, and Math activities. This may be self-directed or with instruction. All ages welcome.
LOCATION:Port Elgin\, Branch Library
UID:e.2689.17590
SEQUENCE:3
DTSTAMP:20260420T145537Z
URL:https://www.saugeenshoreschamber.ca/events/details/stem-09-24-2018-17590
END:VEVENT

END:VCALENDAR
