BEGIN:VCALENDAR
VERSION:2.0
PRODID:-//ChamberMaster//Event Calendar 2.0//EN
METHOD:PUBLISH
X-PUBLISHED-TTL:P3D
REFRESH-INTERVAL:P3D
CALSCALE:GREGORIAN
BEGIN:VEVENT
DTSTART:20180810T000000Z
DTEND:20180826T020000Z
X-MICROSOFT-CDO-ALLDAYEVENT:FALSE
SUMMARY:Storm Warning by Norm Foster
DESCRIPTION:Storm Warning by Norm Foster - Ongoing from August 9 to August 25.  Located at the Southampton Town Hall - your Like Professional Theatre destination in Saugeen Shores. Bruce County Playhouse is back again with their fourth annual summer season of live theatre! Set in cottage country in 1953\, this wonderfully written romantic comedy\, tells the story of Jack Forrester and Emma Currie. Jack is an emotionally damaged World War II veteran who has retreated from life. Emma is a brassy\, amphetamine-popping music writer. We watch as these two opposites meet and are changed forever during one unforgettable September weekend. Will opposites attract? Or will their differences be too much to overcome? Join us to find out!
X-ALT-DESC;FMTTYPE=text/html:Storm Warning by Norm Foster - Ongoing from August 9 to August 25.&nbsp\;&nbsp\;Located at the Southampton Town Hall - your Like Professional&nbsp\;Theatre&nbsp\;destination in&nbsp\;Saugeen&nbsp\;Shores. Bruce County Playhouse is back again with their fourth annual summer season of live theatre! Set in cottage country in 1953\, this wonderfully written romantic comedy\, tells the story of Jack Forrester and Emma Currie. Jack is an emotionally damaged World War II veteran who has retreated from life. Emma is a brassy\, amphetamine-popping music writer. We watch as these two opposites meet and are changed forever during one unforgettable September weekend. Will opposites attract? Or will their differences be too much to overcome? Join us to find out!
LOCATION:Southampton Town Hall Auditorium\, 201 High Street\, Southampton
UID:e.2689.13108
SEQUENCE:3
DTSTAMP:20260420T145844Z
URL:https://www.saugeenshoreschamber.ca/events/details/storm-warning-by-norm-foster-13108
END:VEVENT

END:VCALENDAR
