BEGIN:VCALENDAR
VERSION:2.0
PRODID:-//ChamberMaster//Event Calendar 2.0//EN
METHOD:PUBLISH
X-PUBLISHED-TTL:P3D
REFRESH-INTERVAL:P3D
CALSCALE:GREGORIAN
BEGIN:VEVENT
DTSTART:20181124T220000Z
DTEND:20181125T000000Z
X-MICROSOFT-CDO-ALLDAYEVENT:FALSE
SUMMARY:Storybook Christmas @ Port Elgin Branch Library
DESCRIPTION:Storybook Christmas @ Port Elgin Branch Library. 4th Annual Christmas Holiday Library Event Before Santa comes down Main Street\, visit the library for some pre-parade fun! At 5pm at Port Elgin Branch Library. Take part in games and other activities Enjoy a warm beverage and enter to win one of 3 door prizes!
X-ALT-DESC;FMTTYPE=text/html:Storybook Christmas @ Port Elgin Branch Library. 4th Annual Christmas Holiday Library Event Before Santa comes down Main Street\, visit the library for some pre-parade fun! At 5pm at Port Elgin Branch Library. Take part in games and other activities Enjoy a warm beverage and enter to win one of 3 door prizes!
LOCATION:Port Elgin Branch Library
UID:e.2689.17621
SEQUENCE:3
DTSTAMP:20260420T182953Z
URL:https://www.saugeenshoreschamber.ca/events/details/storybook-christmas-port-elgin-branch-library-17621
END:VEVENT

END:VCALENDAR
