BEGIN:VCALENDAR
VERSION:2.0
PRODID:-//ChamberMaster//Event Calendar 2.0//EN
METHOD:PUBLISH
X-PUBLISHED-TTL:P3D
REFRESH-INTERVAL:P3D
CALSCALE:GREGORIAN
BEGIN:VEVENT
DTSTART:20180921T200000Z
DTEND:20180921T210000Z
X-MICROSOFT-CDO-ALLDAYEVENT:FALSE
SUMMARY:Stuffie Sleepover
DESCRIPTION:Join us to sign in your stuffie\, make a paper weaved blanket\, hear a bedtime story and sign a lullaby. Leave your stuffie at the library overnight and see what activities they get up to. Stop in on Saturday September 22 in the morning to pick up your stuffie with a few photos and a book recommendation that your stuffie enjoyed.
X-ALT-DESC;FMTTYPE=text/html:Join us to sign in your stuffie\, make a paper weaved blanket\, hear a bedtime story and sign a lullaby. Leave your stuffie at the library overnight and see what activities they get up to. Stop in on Saturday September 22 in the morning to pick up your stuffie with a few photos and a book recommendation that your stuffie enjoyed.
LOCATION:Southampton Library
UID:e.2689.17569
SEQUENCE:3
DTSTAMP:20260420T145505Z
URL:https://www.saugeenshoreschamber.ca/events/details/stuffie-sleepover-17569
END:VEVENT

END:VCALENDAR
