BEGIN:VCALENDAR
VERSION:2.0
PRODID:-//ChamberMaster//Event Calendar 2.0//EN
METHOD:PUBLISH
X-PUBLISHED-TTL:P3D
REFRESH-INTERVAL:P3D
CALSCALE:GREGORIAN
BEGIN:VEVENT
DTSTART:20181012T170000Z
DTEND:20181013T210000Z
X-MICROSOFT-CDO-ALLDAYEVENT:FALSE
SUMMARY:Tara Festival of Crafts - 37th Annual
DESCRIPTION:Tara Festival of Crafts - 37th Annual. Come and enjoy the 37th Annual Craft Show! We have about 170 vendors that fill the Tara-Arran Arena\, Community Centre and Curling Club. The Festival of Crafts this year will be held Friday October 12th\, from 1 to 9pm\, and Saturday October 13th\, from 10am to 5pm. Hot lunch and homemade baked goods are available. ATM on site. Admission is $3. Strollers and elementary students are $1. Location: Tara- Arran Community Center\,150 Hamilton St\,. Tara. Date: Friday October 12th\, 2018 1:00pm-9:00pm &  Saturday October 13th\, 2018 10:00am-5:00pm
X-ALT-DESC;FMTTYPE=text/html:Tara Festival of Crafts - 37th&nbsp\;Annual. Come and enjoy the 37th Annual Craft Show! We have about 170 vendors that fill the Tara-Arran Arena\, Community Centre and Curling Club. The Festival of Crafts this year will be held Friday October 12th\, from 1 to 9pm\, and Saturday October 13th\, from 10am to 5pm. Hot lunch and homemade baked goods are available. ATM on site. Admission is $3. Strollers and elementary students are $1. Location: Tara- Arran Community Center\,150 Hamilton St\,. Tara. Date: Friday October 12th\,&nbsp\;2018 1:00pm-9:00pm &amp\; &#8203\;Saturday October 13th\, 2018 10:00am-5:00pm
LOCATION:Tara-Arran Community Center\, 150 Hamilton St\, Tara\, ON
UID:e.2689.13113
SEQUENCE:3
DTSTAMP:20260420T164200Z
URL:https://www.saugeenshoreschamber.ca/events/details/tara-festival-of-crafts-37th-annual-13113
END:VEVENT

END:VCALENDAR
