BEGIN:VCALENDAR
VERSION:2.0
PRODID:-//ChamberMaster//Event Calendar 2.0//EN
METHOD:PUBLISH
X-PUBLISHED-TTL:P3D
REFRESH-INTERVAL:P3D
CALSCALE:GREGORIAN
BEGIN:VEVENT
DTSTART:20180916T163000Z
DTEND:20180916T213000Z
X-MICROSOFT-CDO-ALLDAYEVENT:FALSE
SUMMARY:Terry Fox Run
DESCRIPTION:Terry Fox Run. Use of the Rotary park picnic shelter for registration and use of the multi purpose shore road trail is needed for this 2\, 5 or 10 km walk/run. Everyone is welcome and we have been doing this event in our community for 30 years.
X-ALT-DESC;FMTTYPE=text/html:Terry Fox Run. Use of the Rotary park picnic shelter for registration and use of the multi purpose shore road trail is needed for this 2\, 5 or 10 km walk/run. Everyone is welcome and we have been doing this event in our community for 30 years.
LOCATION:North Shore Park\, 800 Stevens Street\, Port Elgin
UID:e.2689.12965
SEQUENCE:3
DTSTAMP:20260420T145424Z
URL:https://www.saugeenshoreschamber.ca/events/details/terry-fox-run-12965
END:VEVENT

END:VCALENDAR
