BEGIN:VCALENDAR
VERSION:2.0
PRODID:-//ChamberMaster//Event Calendar 2.0//EN
METHOD:PUBLISH
X-PUBLISHED-TTL:P3D
REFRESH-INTERVAL:P3D
CALSCALE:GREGORIAN
BEGIN:VEVENT
DTSTART:20181005T150000Z
DTEND:20181005T180000Z
X-MICROSOFT-CDO-ALLDAYEVENT:FALSE
SUMMARY:The Bruce Documentary
DESCRIPTION:The Bruce Documentary. Friday October 5th In honour of Culture days\, September 28\, 29 & 30th. Celebrate our culture in Bruce County by attending a viewing of the Bruce Documentary\, Parts 1\, 2 & 3 Please register as seating is Limited. 11am at the Port Elgin Branch Library.
X-ALT-DESC;FMTTYPE=text/html:The Bruce Documentary. Friday October 5th In honour of Culture days\, September 28\, 29 &amp\; 30th. Celebrate our culture in Bruce County by attending a viewing of the Bruce Documentary\, Parts 1\, 2 &amp\; 3 Please register as seating is Limited. 11am at the Port Elgin Branch Library.
LOCATION:Port Elgin Branch Library
UID:e.2689.17617
SEQUENCE:3
DTSTAMP:20260420T163617Z
URL:https://www.saugeenshoreschamber.ca/events/details/the-bruce-documentary-10-05-2018-17617
END:VEVENT

END:VCALENDAR
