BEGIN:VCALENDAR
VERSION:2.0
PRODID:-//ChamberMaster//Event Calendar 2.0//EN
METHOD:PUBLISH
X-PUBLISHED-TTL:P3D
REFRESH-INTERVAL:P3D
CALSCALE:GREGORIAN
BEGIN:VEVENT
DTSTART:20170618T140000Z
DTEND:20170618T210000Z
X-MICROSOFT-CDO-ALLDAYEVENT:FALSE
SUMMARY:The Last Frontier
DESCRIPTION:The Last Frontier - Bruce County Museum & Cultural Centre\n\nMembers Only Sneak Peek June 14 - Opens June 15\n\nThis new exhibit pays homage to the County's Pioneer\, inviting reflection on the cultural heritage that formed the County with stories of agriculture and the European settlers who made Canada their new home and developed the corner stones of our present communities. This exhibit covers settlement\, immigration from Europe\, surveying and land sales\, and domestic activities while exploring architecture\, business\, crime\, education\, religion\, services\, technology\, tourism\, and transportation.\n\nProudly presented by Enbridge and 98 The Beach\n\nAdmission is $8 for adults\, $6 for seniors and students\, and $4 for children ages 4-12. Children under 3 are free! A day pass for the Bruce County Archives & Research Room is $6
X-ALT-DESC;FMTTYPE=text/html:The Last Frontier - Bruce County Museum &amp\; Cultural Centre<br />\nMembers Only Sneak Peek June 14 - Opens June 15<br />\nThis new exhibit pays homage to the County&rsquo\;s Pioneer\, inviting reflection on the cultural heritage that formed the County with stories of agriculture and the European settlers who made Canada their new home and developed the corner stones of our present communities. This exhibit covers settlement\, immigration from Europe\, surveying and land sales\, and domestic activities while exploring architecture\, business\, crime\, education\, religion\, services\, technology\, tourism\, and transportation.<br />\nProudly presented by Enbridge and 98 The Beach<br />\nAdmission is $8 for adults\, $6 for seniors and students\, and $4 for children ages 4-12. Children under 3 are free! A day pass for the Bruce County Archives &amp\; Research Room is $6<br />\n&nbsp\;<br />\n&nbsp\;
LOCATION:Bruce County Museum & Cultural Centre
UID:e.2689.9320
SEQUENCE:3
DTSTAMP:20260419T164719Z
URL:https://www.saugeenshoreschamber.ca/events/details/the-last-frontier-06-18-2017-9320
END:VEVENT

END:VCALENDAR
