BEGIN:VCALENDAR
VERSION:2.0
PRODID:-//ChamberMaster//Event Calendar 2.0//EN
METHOD:PUBLISH
X-PUBLISHED-TTL:P3D
REFRESH-INTERVAL:P3D
CALSCALE:GREGORIAN
BEGIN:VEVENT
DTSTART;VALUE=DATE:20180818
DTEND;VALUE=DATE:20180819
TRANSP:TRANSPARENT
X-MICROSOFT-CDO-ALLDAYEVENT:TRUE
SUMMARY:Touch a Truck
DESCRIPTION:Touch a Truck is back! At the Port Elgin Main Beach Tarmac area. Emergency Vehicles\, Services trucks\, Farming vehicles and so much more! Come climb inside each one and explore the many trucks on site and meet their drivers! Plus free Face painting and a bouncy castle brought to you by our amazing event sponsors Bruce Power and Bruce Telecom! Race for the fastest time on the one of a kind SISCAR Nascar Simulator! Pizza lunch and cold drinks available. Fun for all ages! Admission at the gate is $6 for adults\, $4 for kids or $20 for a family. A fundraising event brought to you by the Saugeen Shores Kin Club.
X-ALT-DESC;FMTTYPE=text/html:Touch a Truck is back! At the Port Elgin Main Beach Tarmac area. Emergency Vehicles\, Services trucks\, Farming vehicles and so much more! Come climb inside each one and explore the many trucks on site and meet their drivers! <em><strong>Plus free Face painting and a bouncy castle</strong></em> brought to you by our amazing event sponsors <strong>Bruce Power and Bruce Telecom</strong>! <em><strong>Race for the fastest time on the one of a kind SISCAR Nascar Simulator!</strong></em> Pizza lunch and cold drinks available. Fun for all ages!&nbsp\;Admission at the gate is $6 for adults\, $4 for kids or <em>$20 for a family.</em> A fundraising event brought to you by the Saugeen Shores Kin Club.
LOCATION:Port Elgin Main Beach 110 Elgin St. Port Elgin
UID:e.2689.13254
SEQUENCE:3
DTSTAMP:20260420T132213Z
URL:https://www.saugeenshoreschamber.ca/events/details/touch-a-truck-13254
END:VEVENT

END:VCALENDAR
