BEGIN:VCALENDAR
VERSION:2.0
PRODID:-//ChamberMaster//Event Calendar 2.0//EN
METHOD:PUBLISH
X-PUBLISHED-TTL:P3D
REFRESH-INTERVAL:P3D
CALSCALE:GREGORIAN
BEGIN:VEVENT
DTSTART:20181206T180000Z
DTEND:20181206T200000Z
X-MICROSOFT-CDO-ALLDAYEVENT:FALSE
SUMMARY:Victorian Christmas Tea
DESCRIPTION:Victorian Christmas Tea at the Bruce County Museum & Cultural Centre. Share the warmth of the holidays over specialty teas provided by Loose Leaves and seasonal treats created by Harrigan's 100 Mile Catering. Period-costumed volunteers will serve you as you enjoy time spent with friends and family watching Celtic Dancers from the Celtic Academy Canada perform to beautiful live music.
X-ALT-DESC;FMTTYPE=text/html:Victorian Christmas Tea at the Bruce County Museum &amp\; Cultural Centre. Share the warmth of the holidays over specialty teas provided by Loose Leaves and seasonal treats created by Harrigan&#39\;s 100 Mile Catering. Period-costumed volunteers will serve you as you enjoy time spent with friends and family watching Celtic Dancers from the Celtic Academy Canada perform to beautiful live music.
LOCATION:Bruce County Museum & Cultural Centre\, 33 Victoria Street\, Southampton\, ON
UID:e.2689.17790
SEQUENCE:3
DTSTAMP:20260421T115654Z
URL:https://www.saugeenshoreschamber.ca/events/details/victorian-christmas-tea-17790
END:VEVENT

END:VCALENDAR
