BEGIN:VCALENDAR
VERSION:2.0
PRODID:-//ChamberMaster//Event Calendar 2.0//EN
METHOD:PUBLISH
X-PUBLISHED-TTL:P3D
REFRESH-INTERVAL:P3D
CALSCALE:GREGORIAN
BEGIN:VEVENT
DTSTART:20210310T153000Z
DTEND:20210310T163000Z
X-MICROSOFT-CDO-ALLDAYEVENT:FALSE
SUMMARY:Virtual Adventure Talks
DESCRIPTION:Virtual Adventure Talks March 10 10:30 AM - 11:30 AM Traveling near and far\, these explorers have been on trips of a lifetime and are excited to share their journey\, stories\, and photographs with you. Please join us in this three-part series to learn about some of the world's most wonderful places. Individual and series tickets available. Please see brucemuseum.ca for more details.
X-ALT-DESC;FMTTYPE=text/html:Virtual Adventure Talks March 10 10:30 AM - 11:30 AM Traveling near and far\, these explorers have been on trips of a lifetime and are excited to share their journey\, stories\, and photographs with you. Please join us in this three-part series to learn about some of the world&rsquo\;s most wonderful places. Individual and series tickets available. Please see brucemuseum.ca for more details.
LOCATION:Bruce County Museum & Cultural Centre 33 Victoria St.\, N\, Southampton\, ON N0H 2L0
UID:e.2689.24108
SEQUENCE:3
DTSTAMP:20260419T202217Z
URL:https://www.saugeenshoreschamber.ca/events/details/virtual-adventure-talks-24108
END:VEVENT

END:VCALENDAR
