BEGIN:VCALENDAR
VERSION:2.0
PRODID:-//ChamberMaster//Event Calendar 2.0//EN
METHOD:PUBLISH
X-PUBLISHED-TTL:P3D
REFRESH-INTERVAL:P3D
CALSCALE:GREGORIAN
BEGIN:VEVENT
DTSTART:20181201T180000Z
DTEND:20181201T200000Z
X-MICROSOFT-CDO-ALLDAYEVENT:FALSE
SUMMARY:Visits with Santa
DESCRIPTION:Visits with Santa at the Bruce County Museum & Cultural Centre.Come and visit with the jolly ol' soul and whisper your Christmas wishes to him. Bring your camera to capture the moment!
X-ALT-DESC;FMTTYPE=text/html:Visits with Santa at the Bruce County Museum &amp\; Cultural Centre.Come and visit with the jolly ol&#39\; soul and whisper your Christmas wishes to him. Bring your camera to capture the moment!
LOCATION:Bruce County Museum & Cultural Centre\, 33 Victoria Street\, Southampton\, ON
UID:e.2689.17787
SEQUENCE:3
DTSTAMP:20260421T132555Z
URL:https://www.saugeenshoreschamber.ca/events/details/visits-with-santa-12-01-2018-17787
END:VEVENT

END:VCALENDAR
