BEGIN:VCALENDAR
VERSION:2.0
PRODID:-//ChamberMaster//Event Calendar 2.0//EN
METHOD:PUBLISH
X-PUBLISHED-TTL:P3D
REFRESH-INTERVAL:P3D
CALSCALE:GREGORIAN
BEGIN:VEVENT
DTSTART:20180811T140000Z
DTEND:20180811T210000Z
X-MICROSOFT-CDO-ALLDAYEVENT:FALSE
SUMMARY:Wall Art Charity Sale by the Saugeen Grannies
DESCRIPTION:The Saugeen Grannies will be holding two Wall Art Sales: August 11th at the Port Elgin Public Library and August 18th at St. Paul's Anglican Church in Southampton. Both events are from 10 a.m. until 5 pm. The group has collected over 200 pieces of wall art such as oil paintings\, water colours\, tapestries\, great picture frames\, etc. - a huge variety to choose from. Come and support the Saugeen Grannies' Grandmothers to Grandmothers Campaign of the Stephen Lewis Foundation for grandmothers in sub-Saharan Africa who are raising their AIDS orphaned grand children. Cash or cheque payments only - please.
X-ALT-DESC;FMTTYPE=text/html:The Saugeen Grannies will be holding two Wall Art Sales: August 11th at the Port Elgin Public Library and August 18th at St. Paul&#39\;s Anglican Church in Southampton. Both events are from 10 a.m. until 5 pm. The group has collected over 200 pieces of wall art such as oil paintings\, water colours\, tapestries\, great picture frames\, etc. - a huge variety to choose from. Come and support the Saugeen Grannies&#39\; Grandmothers to Grandmothers Campaign of the Stephen Lewis Foundation for grandmothers in sub-Saharan Africa who are raising their AIDS orphaned grand children. Cash or cheque payments only - please.
LOCATION:708 Goderich street\, Port Elgin Port Elgin Public Library
UID:e.2689.17544
SEQUENCE:3
DTSTAMP:20260420T131753Z
URL:https://www.saugeenshoreschamber.ca/events/details/wall-art-charity-sale-by-the-saugeen-grannies-17544
END:VEVENT

END:VCALENDAR
