BEGIN:VCALENDAR
VERSION:2.0
PRODID:-//ChamberMaster//Event Calendar 2.0//EN
METHOD:PUBLISH
X-PUBLISHED-TTL:P3D
REFRESH-INTERVAL:P3D
CALSCALE:GREGORIAN
BEGIN:VEVENT
DTSTART:20181130T220000Z
DTEND:20181130T234500Z
X-MICROSOFT-CDO-ALLDAYEVENT:FALSE
SUMMARY:Welcome to Whoville at Southampton Branch Library
DESCRIPTION:Welcome to Whoville at Southampton Branch LIbrary. At 5pm.  Southampton Branch Library invites you to come and have some fun in Whoville before the Santa Claus parade. Play games\, take your picture in one of our festive photo booths\, make a Christmas ornament to take home and enjoy some treats!
X-ALT-DESC;FMTTYPE=text/html:Welcome to Whoville at Southampton Branch LIbrary. At 5pm.&nbsp\; Southampton Branch Library invites you to come and have some fun in Whoville before the Santa Claus parade. Play games\, take your picture in one of our festive photo booths\, make a Christmas ornament to take home and enjoy some treats!
LOCATION:Southampton Branch Library
UID:e.2689.17629
SEQUENCE:3
DTSTAMP:20260420T183115Z
URL:https://www.saugeenshoreschamber.ca/events/details/welcome-to-whoville-at-southampton-branch-library-11-30-2018-17629
END:VEVENT

END:VCALENDAR
