BEGIN:VCALENDAR
VERSION:2.0
PRODID:-//ChamberMaster//Event Calendar 2.0//EN
METHOD:PUBLISH
X-PUBLISHED-TTL:P3D
REFRESH-INTERVAL:P3D
CALSCALE:GREGORIAN
BEGIN:VEVENT
DTSTART:20180915T140000Z
DTEND:20180916T200000Z
X-MICROSOFT-CDO-ALLDAYEVENT:FALSE
SUMMARY:Wild for the Arts
DESCRIPTION:Wild for the Arts is moving to the Iris Grove Campsites of MacGregor Point Park's Huron Campground for 2018. The Campsite Studio Tour runs Saturday\, September 15 and Sunday\, September 16\, from 10 a.m. to 4 p.m.\, as festival artists and artisans display and sell their paintings\, watercolors\, collages\, carvings\, sculptures\, stained glass\, photography\, pottery\, jewelry\, woodworking and more. Free admission.\n\nCome for the artists and artisans. Stay for the entertainment. Follow us on Facebook - Facebook.com/wildforhtearts
X-ALT-DESC;FMTTYPE=text/html:Wild for the Arts is moving to the Iris Grove Campsites of MacGregor Point Park&rsquo\;s Huron Campground for 2018. The Campsite Studio Tour runs Saturday\, September 15 and Sunday\, September 16\, from 10 a.m. to 4 p.m.\, as festival artists and artisans display and sell their paintings\, watercolors\, collages\, carvings\, sculptures\, stained glass\, photography\, pottery\, jewelry\, woodworking and more. Free admission.<br />\nCome for the artists and artisans. Stay for the entertainment. Follow us on Facebook - Facebook.com/wildforhtearts
LOCATION:MacGregor Point Provincial Park\, 1593 Bruce Road 33\, Saugeen Shores
UID:e.2689.12757
SEQUENCE:3
DTSTAMP:20260420T163707Z
URL:https://www.saugeenshoreschamber.ca/events/details/wild-for-the-arts-12757
END:VEVENT

END:VCALENDAR
