BEGIN:VCALENDAR
VERSION:2.0
PRODID:-//ChamberMaster//Event Calendar 2.0//EN
METHOD:PUBLISH
X-PUBLISHED-TTL:P3D
REFRESH-INTERVAL:P3D
CALSCALE:GREGORIAN
BEGIN:VEVENT
DTSTART;VALUE=DATE:20181227
DTEND;VALUE=DATE:20181230
TRANSP:TRANSPARENT
X-MICROSOFT-CDO-ALLDAYEVENT:TRUE
SUMMARY:Winter Family Fun Days!
DESCRIPTION:Winter Family Fun Days at the Bruce County Museum & Cultural Centre. School is out\, so have some winter fun with us! We have different crafts\, movies activity stations and scavenger hunts to enjoy during your winter break. Visit brucemuseum.ca for a complete listing of daily themes.
X-ALT-DESC;FMTTYPE=text/html:Winter Family Fun Days at the Bruce County Museum &amp\; Cultural Centre. School is out\, so have some winter fun with us! We have different crafts\, movies activity stations and scavenger hunts to enjoy during your winter break. Visit brucemuseum.ca for a complete listing of daily themes.
LOCATION:Bruce County Museum & Cultural Centre 33 Victoria Street Southampton\, ON
UID:e.2689.17793
SEQUENCE:3
DTSTAMP:20260421T132758Z
URL:https://www.saugeenshoreschamber.ca/events/details/winter-family-fun-days-17793
END:VEVENT

END:VCALENDAR
